BEGIN:VCALENDAR
VERSION:2.0
PRODID:icalendar-ruby
CALSCALE:GREGORIAN
METHOD:PUBLISH
BEGIN:VEVENT
DTSTAMP:20260420T064706Z
UID:2-436598@desi316.org
DTSTART:20260918T020000Z
DTEND:20260918T033000Z
CLASS:PUBLIC
CREATED:20260419T211736
DESCRIPTION:Join us for a fun evening of pickleball\, snacks\, and communit
 y! No experience needed—just come ready to play and connect.
LAST-MODIFIED:20260419T211736
LOCATION:1901 Timber Creek Rd\, Flower Mound
SUMMARY:Pickle Ball
URL;VALUE=URI:https://www.desi316.org/events/pickle-ball/2026-09-17
ATTACH;FILENAME=brooke-lark-93583-unsplash.jpg;FMTTYPE=image/jpeg:https://d
 q5pwpg1q8ru0.cloudfront.net/2025/09/17/20/51/32/c16bdd92-1541-4bcf-a39f-e7
 16d0ffa2f0/brooke-lark-93583-unsplash.jpg
END:VEVENT
END:VCALENDAR
